BEGIN:VCALENDAR
VERSION:1.0
PRODID:Open2CKalenderExportV11
BEGIN:VEVENT
DTSTAMP:20200831T174018Z
DTSTART:20201222T230000Z
DTEND:20210108T230000Z
CATEGORIES:Schulferien
SUMMARY;CHARSET=UTF-8:Weihnachtsferien 2020
DESCRIPTION;CHARSET=UTF-8:
LOCATION;CHARSET=UTF-8:
UID:40c35d784c1d32db9b34b79548a439c3-f4ee836f53cd624efa89d9c6915877c3
PRIORITY:3
END:VEVENT
END:VCALENDAR