BEGIN:VCALENDAR
VERSION:1.0
PRODID:Open2CKalenderExportV11
BEGIN:VEVENT
DTSTAMP:20210126T124644Z
DTSTART:20210214T230000Z
DTEND:20210218T230000Z
CATEGORIES:Schulferien
SUMMARY;CHARSET=UTF-8:Frühjahrsferien 2021: entfallen!
DESCRIPTION;CHARSET=UTF-8:  |   | Ferien entfallen!
LOCATION;CHARSET=UTF-8:
UID:c2025190bf61f4f7647ce5c0a0ef8b52-940b4264f9714bf10b3fbe6847b2e058
PRIORITY:3
END:VEVENT
END:VCALENDAR