BEGIN:VCALENDAR
VERSION:1.0
PRODID:Open2CKalenderExportV11
BEGIN:VEVENT
DTSTAMP:20200831T174229Z
DTSTART:20210524T220000Z
DTEND:20210603T220000Z
CATEGORIES:Schulferien
SUMMARY;CHARSET=UTF-8:Pfingstferien 2021
DESCRIPTION;CHARSET=UTF-8:
LOCATION;CHARSET=UTF-8:
UID:0ac4bbacdeba28861adb329bf80d7053-9beadc8bb34be90fe9a4cfa57dfcc1f7
PRIORITY:3
END:VEVENT
END:VCALENDAR