BEGIN:VCALENDAR
VERSION:1.0
PRODID:Open2CKalenderExportV11
BEGIN:VEVENT
DTSTAMP:20200831T174343Z
DTSTART:20211101T230000Z
DTEND:20211104T230000Z
CATEGORIES:Schulferien
SUMMARY;CHARSET=UTF-8:Herbstferien 2021
DESCRIPTION;CHARSET=UTF-8:
LOCATION;CHARSET=UTF-8:
UID:6316f2159d04196db735ff18fbd14f4e-095d74257270a393177fb839000dc722
PRIORITY:3
END:VEVENT
BEGIN:VEVENT
DTSTAMP:20211114T172752Z
DTSTART:20211118T160000Z
DTEND:20211118T180000Z
CATEGORIES:Verschiedenes
URL:https://www.schule-sbach.de/index.php?id=0,256
SUMMARY;CHARSET=UTF-8:Elternsprechtag
DESCRIPTION;CHARSET=UTF-8:
LOCATION;CHARSET=UTF-8:
UID:2530c094ea0bbb4c1228fe03d51a30eb-a4228eda13c9ede55edd669bf3f88a70
PRIORITY:3
END:VEVENT
END:VCALENDAR