BEGIN:VCALENDAR
VERSION:2.0
PRODID:< http://www.open2c.de/ >
METHOD:PUBLISH
X-PUBLISHED-TTL:PT12H
BEGIN:VEVENT
CREATED:20200831T173643Z
LAST-MODIFIED:20200831T173744Z
GEO:0.000000,0.000000
DTSTAMP:20260423T025752Z
DTSTART:20201030T230000Z
DTEND:20201105T230000Z
CATEGORIES:Schulferien
SUMMARY;CHARSET=UTF-8:Herbstferien 2020
DESCRIPTION;CHARSET=UTF-8:
LOCATION;CHARSET=UTF-8:
UID:90d89a00f9999f43ffec734de5343541@c41bfceec36113e3c4a1a6bb9c661fe6
END:VEVENT
BEGIN:VEVENT
CREATED:20201108T165450Z
LAST-MODIFIED:20201108T165912Z
GEO:0.000000,0.000000
DTSTAMP:20260423T025752Z
DTSTART:20201119T153000Z
DTEND:20201119T183000Z
CATEGORIES:Verschiedenes
SUMMARY;CHARSET=UTF-8:1. Elternsprechtag
DESCRIPTION;CHARSET=UTF-8:Am 19.11.2020 findet von 16.30 bis 19.00 Uhr der 1. allgemeine Elternsprechtag statt. 
LOCATION;CHARSET=UTF-8:
UID:59cafb008eeb1adadf70cc62d8c25126@c41bfceec36113e3c4a1a6bb9c661fe6
END:VEVENT
END:VCALENDAR