BEGIN:VCALENDAR
VERSION:2.0
PRODID:< http://www.open2c.de/ >
METHOD:PUBLISH
X-PUBLISHED-TTL:PT12H
BEGIN:VEVENT
CREATED:20200831T174033Z
LAST-MODIFIED:20210126T124644Z
GEO:0.000000,0.000000
DTSTAMP:20260422T223716Z
DTSTART:20210214T230000Z
DTEND:20210218T230000Z
CATEGORIES:Schulferien
SUMMARY;CHARSET=UTF-8:Frühjahrsferien 2021\\":\\" entfallen!
DESCRIPTION;CHARSET=UTF-8: 
  
 Ferien entfallen!
LOCATION;CHARSET=UTF-8:
UID:7bdc3c31198f19f4414e94c029ee2892@c41bfceec36113e3c4a1a6bb9c661fe6
END:VEVENT
END:VCALENDAR