BEGIN:VCALENDAR
VERSION:2.0
PRODID:< http://www.open2c.de/ >
METHOD:PUBLISH
X-PUBLISHED-TTL:PT12H
BEGIN:VEVENT
CREATED:20200831T174113Z
LAST-MODIFIED:20200831T174145Z
GEO:0.000000,0.000000
DTSTAMP:20260422T192318Z
DTSTART:20210328T220000Z
DTEND:20210409T220000Z
CATEGORIES:Schulferien
SUMMARY;CHARSET=UTF-8:Osterferien 2021
DESCRIPTION;CHARSET=UTF-8:
LOCATION;CHARSET=UTF-8:
UID:38b5153259bbe88f638ba4c4168d0d67@c41bfceec36113e3c4a1a6bb9c661fe6
END:VEVENT
END:VCALENDAR