BEGIN:VCALENDAR
VERSION:2.0
PRODID:< http://www.open2c.de/ >
METHOD:PUBLISH
X-PUBLISHED-TTL:PT12H
BEGIN:VEVENT
CREATED:20200831T174237Z
LAST-MODIFIED:20200831T174304Z
GEO:0.000000,0.000000
DTSTAMP:20260422T121859Z
DTSTART:20210729T220000Z
DTEND:20210912T220000Z
CATEGORIES:Schulferien
SUMMARY;CHARSET=UTF-8:Sommerferien 2021
DESCRIPTION;CHARSET=UTF-8:
LOCATION;CHARSET=UTF-8:
UID:6dfeffca853c612dbee9b9d3b64b6a5f@c41bfceec36113e3c4a1a6bb9c661fe6
END:VEVENT
END:VCALENDAR