BEGIN:VCALENDAR
VERSION:2.0
PRODID:< http://www.open2c.de/ >
METHOD:PUBLISH
X-PUBLISHED-TTL:PT12H
BEGIN:VEVENT
CREATED:20200901T082410Z
LAST-MODIFIED:20200901T082451Z
GEO:0.000000,0.000000
DTSTAMP:20260423T060055Z
DTSTART:20200907T220000Z
DTEND:20200907T220000Z
CATEGORIES:Verschiedenes
SUMMARY;CHARSET=UTF-8:Erster Schultag 2020
DESCRIPTION;CHARSET=UTF-8:
LOCATION;CHARSET=UTF-8:
UID:42ed655a6e6f0f8f403eaaefd0078bc1@c41bfceec36113e3c4a1a6bb9c661fe6
END:VEVENT
END:VCALENDAR